BEGIN:VCALENDAR
PRODID:-//Det Danske Spejderkorps//NONSGML Gruppeweb//EN
VERSION:2.0
CALSCALE:GREGORIAN
X-PUBLISHED-TTL:PT1H
X-WR-CALNAME:Gallerne
METHOD:PUBLISH
BEGIN:VEVENT
UID:gruppeweb.dk:7308:event:207
DTSTAMP:20260423T142135Z
LAST-MODIFIED:20260214T165314Z
SUMMARY:Spejderdag intern
DESCRIPTION:Kom til spejderdag og vis nysgerrige børn og voksne hvad vi la
 ver når vi er  \ntil spejder. \n\nHvis du ikke er spejder allerede\, så
  tilmeld dig i stedet her [1]. Men hvis  \ndu er Galler så læs videre he
 runder.\n\nVi skal hygge os med et spændende elementløb\, hvor vi skal u
 d på nogle  \nopgaver der sætter vores viden og evner på en prøvelse -
  så skal vi  \nmåske spise lidt kage. \n\nDu må meget gerne tage både
  dine forældre og søskende med :) Selvom du  \nikke krydser det af nu hv
 or du tilmelder dig\, må de gerne komme alligevel.\n\nSend gerne nysgerri
 ge venner og deres forældre til  \nsiden https://gallerne.dk/kampagne/sp
 ejderdag så de kan tilmelde sig selv  \nder. Hvis i kender nogen andre st
 eder i landet som kunne være nysgerrige på  \nat komme til spejderdag s
 å kan i sende dem linket spejderdag.dk\n\nVi håber du har lyst til at v
 ære med! Vi ses spejderhilsner alle lederene i  \ngallerne.\n\n\n[1] http
 s://gallerne.dk/kampagne/spejderdag\n
URL:https://gallerne.dk/begivenhed/spejderdag-intern
DTSTART:20250511T080000Z
DTEND:20250511T110000Z
LOCATION:Gallerne\, Thorsvej 6\, 8230 Åbyhøj
END:VEVENT
BEGIN:VEVENT
UID:gruppeweb.dk:7308:event:211
DTSTAMP:20260423T142135Z
LAST-MODIFIED:20250520T133625Z
SUMMARY:Alene i Vildmarken
DESCRIPTION:\n
URL:https://gallerne.dk/begivenhed/alene-i-vildmarken
DTSTART:20250607T070000Z
DTEND:20250608T090000Z
LOCATION:Gallerne\, Thorsvej 6\, 8230 Åbyhøj
END:VEVENT
BEGIN:VEVENT
UID:gruppeweb.dk:7308:event:208
DTSTAMP:20260423T142135Z
LAST-MODIFIED:20250712T104149Z
SUMMARY:Sommerlejr 2025\, Trop
DESCRIPTION:Du inviteres hermed på årets vildeste sommerlejr!\n\nÅrets s
 ommerlejr går til vores helt egen hytte\, nemlig Himmeriggården. Her  \n
 skal vi holde sommerlejr anno 1975’\n\nPå himmeriggården fandt vi i vi
 nter en gammel kuvert\, gemt af Gallernes  \nspejdere for 50 år siden. I 
 kuverten har hver gren lagt en challenge til os  \nsom vi vil prøve at ge
 nnemføre. Det betyder at du\, sammen med de andre  \nminispejdere\, skal 
 prøve at gennemføre den challange Gallernes  \nminispejderne lagde i kuv
 erten for 50 år siden.  \n\nI kuverten fandt vi også et kort som viser
  hvor de har gravet en tidskapsel  \nned\, samt instrukser på at vi skal 
 grave den op for at få de ting vi skal  \nbruge. \n\nFor at følge den g
 amle tradition\, vil vi på samme måde selv sende  \nudfordringer videre 
 i slutningen af ugen. Dermed sørger vi for at Gallerne  \nom 50 år kan t
 este om de stadig er på dupperne\, som vi er nu.\n\n\nVi glæder os aller
 ede!\n\n
URL:https://gallerne.dk/begivenhed/sommerlejr-2025-trop
DTSTART:20250802T080000Z
DTEND:20250808T220000Z
LOCATION:Himmeriggården\, Trigevej 23\, 8382 Hinnerup
END:VEVENT
BEGIN:VEVENT
UID:gruppeweb.dk:7308:event:209
DTSTAMP:20260423T142135Z
LAST-MODIFIED:20250712T104149Z
SUMMARY:Sommerlejr 2025\, Junior og 2. årsmini
DESCRIPTION:Du inviteres hermed på årets vildeste sommerlejr!\n\nÅrets s
 ommerlejr går til vores helt egen hytte\, nemlig Himmeriggården. Her  \n
 skal vi holde sommerlejr anno 1975’\n\nPå himmeriggården fandt vi i vi
 nter en gammel kuvert\, gemt af Gallernes  \nspejdere for 50 år siden. I 
 kuverten har hver gren lagt en challenge til os  \nsom vi vil prøve at ge
 nnemføre. Det betyder at du\, sammen med de andre  \nminispejdere\, skal 
 prøve at gennemføre den challange Gallernes  \nminispejderne lagde i kuv
 erten for 50 år siden.  \n\nI kuverten fandt vi også et kort som viser
  hvor de har gravet en tidskapsel  \nned\, samt instrukser på at vi skal 
 grave den op for at få de ting vi skal  \nbruge. \n\nFor at følge den g
 amle tradition\, vil vi på samme måde selv sende  \nudfordringer videre 
 i slutningen af ugen. Dermed sørger vi for at Gallerne  \nom 50 år kan t
 este om de stadig er på dupperne\, som vi er nu.\n\n\nVi glæder os aller
 ede!\n\n
URL:https://gallerne.dk/begivenhed/sommerlejr-2025-junior-og-2-aarsmini
DTSTART:20250802T080000Z
DTEND:20250806T140000Z
LOCATION:Himmeriggården\, Trigevej 23\, 8382 Hinnerup
END:VEVENT
BEGIN:VEVENT
UID:gruppeweb.dk:7308:event:215
DTSTAMP:20260423T142135Z
LAST-MODIFIED:20250725T092631Z
SUMMARY:Sommerlejr 2025\, voksen
DESCRIPTION:Du inviteres hermed på årets vildeste sommerlejr!\n\nÅrets s
 ommerlejr går til vores helt egen hytte\, nemlig Himmeriggården. Her  \n
 skal vi holde sommerlejr anno 1975’\n\nPå himmeriggården fandt vi i vi
 nter en gammel kuvert\, gemt af Gallernes  \nspejdere for 50 år siden. I 
 kuverten har hver gren lagt en challenge til os  \nsom vi vil prøve at ge
 nnemføre. Det betyder at du\, sammen med de andre  \nminispejdere\, skal 
 prøve at gennemføre den challange Gallernes  \nminispejderne lagde i kuv
 erten for 50 år siden.  \n\nI kuverten fandt vi også et kort som viser
  hvor de har gravet en tidskapsel  \nned\, samt instrukser på at vi skal 
 grave den op for at få de ting vi skal  \nbruge. \n\nFor at følge den g
 amle tradition\, vil vi på samme måde selv sende  \nudfordringer videre 
 i slutningen af ugen. Dermed sørger vi for at Gallerne  \nom 50 år kan t
 este om de stadig er på dupperne\, som vi er nu.\n\n\nVi glæder os aller
 ede!\n\n
URL:https://gallerne.dk/begivenhed/sommerlejr-2025-voksen
DTSTART:20250802T080000Z
DTEND:20250808T220000Z
LOCATION:Himmeriggården\, Trigevej 23\, 8382 Hinnerup
END:VEVENT
BEGIN:VEVENT
UID:gruppeweb.dk:7308:event:210
DTSTAMP:20260423T142135Z
LAST-MODIFIED:20250801T194559Z
SUMMARY:Sommerlejr 2025\, 1. års mini og mikro
DESCRIPTION:Du inviteres hermed på årets vildeste sommerlejr!\n\nÅrets s
 ommerlejr går til vores helt egen hytte\, nemlig Himmeriggården. Her  \n
 skal vi holde sommerlejr anno 1975’\n\nPå himmeriggården fandt vi i vi
 nter en gammel kuvert\, gemt af Gallernes  \nspejdere for 50 år siden. I 
 kuverten har hver gren lagt en challenge til os  \nsom vi vil prøve at ge
 nnemføre. Det betyder at du\, sammen med de andre  \nminispejdere\, skal 
 prøve at gennemføre den challange Gallernes  \nminispejderne lagde i kuv
 erten for 50 år siden.  \n\nI kuverten fandt vi også et kort som viser
  hvor de har gravet en tidskapsel  \nned\, samt instrukser på at vi skal 
 grave den op for at få de ting vi skal  \nbruge. \n\nFor at følge den g
 amle tradition\, vil vi på samme måde selv sende  \nudfordringer videre 
 i slutningen af ugen. Dermed sørger vi for at Gallerne  \nom 50 år kan t
 este om de stadig er på dupperne\, som vi er nu.\n\n\nVi glæder os aller
 ede!\n\n
URL:https://gallerne.dk/begivenhed/sommerlejr-2025-1-aars-mini-og-mikro
DTSTART:20250803T110000Z
DTEND:20250806T140000Z
LOCATION:Himmeriggården\, Trigevej 23\, 8382 Hinnerup
END:VEVENT
BEGIN:VEVENT
UID:gruppeweb.dk:7308:event:216
DTSTAMP:20260423T142135Z
LAST-MODIFIED:20260214T165257Z
SUMMARY:Junior Jule tur i september
DESCRIPTION:\n
URL:https://gallerne.dk/begivenhed/junior-jule-tur-i-september
DTSTART:20250913T080000Z
DTEND:20250914T080000Z
LOCATION:Gallerne\, Thorsvej 6\, 8230 Åbyhøj
END:VEVENT
BEGIN:VEVENT
UID:gruppeweb.dk:7308:event:217
DTSTAMP:20260423T142135Z
LAST-MODIFIED:20250910T174722Z
SUMMARY:Spejderne og FDF indtager Tivoli
DESCRIPTION:FDF og spejderne i tivoli friheden 2025\n\nKampen om tivolis sk
 æbne\n\nDer er brug for hjælp! En vigtig del af Marselisborg Skov er i f
 are for at  \nblive forvandlet til et kæmpe\, kedeligt parkeringshus! De 
 to gamle slægter\,  \nPjerrot-familien fra Tivoli Friheden og Vogter-fami
 lien fra skoven\, har  \nkæmpet i generationer om skovens fremtid – men
  nu er tiden kommet til at  \nstå sammen!\n\n*\n*\n\nPRAKTISK INFO: \n\n
 Arrangementet starter lørdag d. 20/09 klokken 8:45 på parkeringspladsen 
 v.  \nTivoli\n\nArrangementet slutter lørdag d. 20/09 klokken 20:00 på p
 arkeringspladsen v.  \nTivoli\n\nI står selv for transport til og fra Tiv
 oli! Lederne opfordrer til at  \nkoordinere samkørsel med nogle af de and
 re deltagere. \n\n*\n*\n\nPris: 395.00  \n\nPrisen inkluderer indgang o
 g turbånd til Tivoli Friheden samt alle  \naktiviteter i løbet af arrang
 ementet\, aftensmad lørdag\, et lækkert mærke  \ntil uniformen og en he
 l FANTASTISK oplevelse sammen med spejdere og FDFere  \nfra hele landet! 
 \n\nPakkeliste: madpakke til dagen\, lommepenge\, tøj efter vejret\, spis
 egrej\,  \nevt. medicin mv.\n\nSidste frist på for tilmelding er: Torsdag
  d. 04/09!\n\nVi ses i Tivoli Friheden!\n\n
URL:https://gallerne.dk/begivenhed/spejderne-og-fdf-indtager-tivoli-0
DTSTART:20250920T064500Z
DTEND:20250920T180000Z
LOCATION:Gallerne\, Thorsvej 6\, 8230 Åbyhøj
END:VEVENT
BEGIN:VEVENT
UID:gruppeweb.dk:7308:event:214
DTSTAMP:20260423T142135Z
LAST-MODIFIED:20250924T061027Z
SUMMARY:Gallertur 2025
DESCRIPTION: Tag med på Gallertur!\n\nHimmeriggården d. 26-28. september
  2025\n\nHar du lyst til at mærke fællesskabet blandt alle Gallerne omkr
 ing  \nlejrbålet? Har du hørt de andre spejdere snakke om trylledrik\, j
 agt på  \nRomere og Obelix’s morgengymnastik? - og er du nysgerrig efte
 r at prøve  \ndet selv? Så deltag på årets Gallertur. \n\nPraktisk:\n
 \nI år går turen til vores egen hytte "Himmeriggården"\, der ligger tæ
 t på  \nSøften (ca. 20 minutters kørsel fra Åbyhøj). \n\nFørste må
 ltid er lidt ”let” sent fredag – så sørg for at spise  \naftensmad
  hjemmefra eller medbring madpakke. \n\nTransport:\n\nMan skal selv sørg
 e for transport til og fra Himmeriggården. Vi opfordre  \ntil at i fylder
  bilerne så godt som muligt. Hvis i ikke har mulighed for  \nselv at kør
 e jeres spejder der ud\, og ikke kan finde nogen til at give dem  \net lif
 t\, så tag kontakt til spejderlederen\, så løser de det.\nAnkomst:\nVi 
 starter på himmeriggården kl 18.00 inde i gården. Der er trængt med  
 \nplads til biler og tid inden vi skal sove. Derfor beder vi jer forældre
  om  \nat sætte spejderene af som var det til skole - Kys og kør. I kan 
 fortælle  \nspejderen at de skal gå ind på gårdspladsen hvor deres le
 der vil tage  \nimod dem.\n\nHjemkomst:\nVi forventer at slutte kl 11:30 p
 å Himmeriggården om søndagen. Her vil der  \nvære et par sække med va
 sketøj (klude og viskestykker) som nogle forældre  \nkan få med hjem og
  hygge sig med. Hvis det lige er dig\, så tag gerne fat I  \nen leder ind
 en vi slutter af.\n\nPakkeliste:\n\nMedbring varmt tøj til at være ude d
 et meste af weekenden.\n\nAlle spejdere - både Mini\, Junior\, trop og Se
 nior sover udenfor i  \nshelter/telt\, så sovepose og liggeunderlag er en
  selvfølge. \n\nDerudover medbringes dolk\, krus\, toiletsager\, viskest
 ykke\, sangbog\, uniform  \nog spejdertørklæde\, lommelygte\, hjemmesko 
 og evt. bålkappe. \n\nFor familiespejdere:\n\nFor jer starter turen lør
 dag hvor dagens program begynder kl 9. og slutter  \nefter festmiddagen (s
 om vi spiser kl 17.45).\n\nForældrehjælp:\n\nFor at det hele kan gå op\
 , skal vi bruge forældrehjælp i køkkenet. På  \nden måde kan lederne 
 koncentrere sig om aktiverne med spejderne.  \nForældrehjælp tilmeldes s
 ammen med tilmeldingen af spejderen. Vi skal bruge  \nca. 10 hjælpere i l
 øbet af weekenden\, så kryds af i tilmeldingen. Det er  \nrigtig hyggeli
 gt at være med. \n\nHusk\, vi kan ikke drive en spejdergruppe uden foræ
 ldrenes hjælp! Vi  \nhar brug for hjælp til madlavning og kørsel. Så 
 kan lederne nemlig  \nkoncentrere sig om at lave fedt spejderarbejde!\n\nT
 ilmelding\n\nSkal ske her: https://medlem.dds.dk/event/id/62373/register\n
 \nPrisen for weekenden er 250 kr.  \n\nVi glæder os!\n\nMange spejderhi
 lsner fra bestyrelse og ledere i Gallerne \n\n
URL:https://gallerne.dk/begivenhed/gallertur-2025
DTSTART:20250926T160000Z
DTEND:20250928T100000Z
LOCATION:Gallerne\, Thorsvej 6\, 8230 Åbyhøj
END:VEVENT
BEGIN:VEVENT
UID:gruppeweb.dk:7308:event:223
DTSTAMP:20260423T142135Z
LAST-MODIFIED:20260214T165243Z
SUMMARY:CCMR 2026
DESCRIPTION:\n
URL:https://gallerne.dk/begivenhed/ccmr-2026
DTSTART:20260116T170400Z
DTEND:20260118T170500Z
LOCATION:Gallerne\, Thorsvej 6\, 8230 Åbyhøj
END:VEVENT
BEGIN:VEVENT
UID:gruppeweb.dk:7308:event:219
DTSTAMP:20260423T142135Z
LAST-MODIFIED:20251007T133711Z
SUMMARY:Vintertur i Hørhaven 2026
DESCRIPTION:*\n*\n\nVinter-gruppetur til Hørhaven d. 24-25 jan. 2026\n\n*\
 n*\n\nD. 24-25. jan. går turen til Hørhaven i Marselisskoven. I løbet a
 f  \nlørdagen vil vi lave masser af sjove aktiviteter både hver for sig 
 og på  \ntværs af grenene. Om aftenen skal vi hygge om bålet\, inden vi
  skal  \novernatte i shelter eller bivuak. \n\n*\n*\n\nFamilie-\, mini- o
 g mikro- spejderne: Vi mødes lørdag kl. 13 ved  \nparkeringspladsen ved 
 Hørhaven (Søg på Aktivitetscentret Peter Sabroes  \nMinde på Google ma
 ps) Husk at have spist frokost på forhånd. Turen slutter  \nefter aftens
 mad lørdag d. 24. jan. Man skal hentes kl 19\, samme sted som man  \nblev
  afleveret.\n\n*\n*\n\nJuniorspejderne: Vi mødes lørdag kl. 13 ved parke
 ringspladsen ved Hørhaven  \n(Søg på Aktivitetscentret Peter Sabroes Mi
 nde på Google maps). Husk at  \nhave spist frokost på forhånd. Efter af
 tensmad overnatter junior i en  \nbivuak. Den bygger de selv for at gøre 
 sig fortjent til mærket  \n“vinter-Bivy”. Turen slutter næste morgen
  kl. 10 ved  \nparkeringspladsen. \n\n*\n*\n\nTropsspejderne: Vi mødes k
 l. 13 ved Stedet\, Thorsvej 6. Vi gå patruljevis  \nud til Hørhaven med 
 sin egen oppakning\, så man skal kunne bære alle sine  \nting i en rygs
 æk. Efter aftensmad overnatter troppen i shelterne i  \nHørhaven. Turen 
 slutter næste morgen kl. 10 ved parkeringspladsen.  \n\n*\n*\n\nVi glæ
 der os til en dejlig tur \n\n*\n*\n\nHilsen lederne\n\n\n\n
URL:https://gallerne.dk/begivenhed/vintertur-i-hoerhaven-2026
DTSTART:20260124T120000Z
DTEND:20260125T090000Z
LOCATION:Hørhaven\, Ørneredevej 23\, 8270 Højbjerg
END:VEVENT
BEGIN:VEVENT
UID:gruppeweb.dk:7308:event:222
DTSTAMP:20260423T142135Z
LAST-MODIFIED:20260223T081303Z
SUMMARY:Tænkedag + grupperådsmøde 2026
DESCRIPTION:Her er både forældre\, spejdere og søskende inviteret fra 17
 .30-20.00. Vi  \nmødes i Elværket\, hvor vi først har en lille ceremoni
  og spiser aftensmad  \nsammen. Herefter er der aktivitet for spejderne og
  generalforsamling for  \nforældre. Vi vil gerne opfordre til\, at I delt
 ager sammen med jeres  \nspejdere\, da det er vigtigt for gruppens drift o
 g en god måde at lære  \ngruppen at kende på. \n\nTil tænkedagsceremo
 nien skal hver spejder medbringe en 2-krone pr.  \npåbegyndte spejderår\
 , som doneres til spejderhjælpen.\n\n
URL:https://gallerne.dk/begivenhed/taenkedag-grupperaadsmoede-2026
DTSTART:20260225T163000Z
DTEND:20260225T190000Z
LOCATION:Gallerne\, Thorsvej 6\, 8230 Åbyhøj
END:VEVENT
BEGIN:VEVENT
UID:gruppeweb.dk:7308:event:229
DTSTAMP:20260423T142135Z
LAST-MODIFIED:20260225T145402Z
SUMMARY:Divisionsturnering trop
DESCRIPTION:\n
URL:https://gallerne.dk/begivenhed/divisionsturnering-trop-0
DTSTART:20260320T170000Z
DTEND:20260322T093000Z
LOCATION:Himmeriggården\, Trigevej 23\, 8382 Hinnerup
END:VEVENT
BEGIN:VEVENT
UID:gruppeweb.dk:7308:event:226
DTSTAMP:20260423T142135Z
LAST-MODIFIED:20260208T125951Z
SUMMARY:Forlev 2026
DESCRIPTION:\n
URL:https://gallerne.dk/begivenhed/forlev-2026
DTSTART:20260328T141600Z
DTEND:20260404T131500Z
LOCATION:Gallerne\, Thorsvej 6\, 8230 Åbyhøj
END:VEVENT
BEGIN:VEVENT
UID:gruppeweb.dk:7308:event:227
DTSTAMP:20260423T142135Z
LAST-MODIFIED:20260205T190433Z
SUMMARY:Birks helt specielle Forlev tilmelding
DESCRIPTION:\n
URL:https://gallerne.dk/begivenhed/birks-helt-specielle-forlev-tilmelding
DTSTART:20260328T185700Z
DTEND:20260404T175700Z
LOCATION:Gallerne\, Thorsvej 6\, 8230 Åbyhøj
END:VEVENT
BEGIN:VEVENT
UID:gruppeweb.dk:7308:event:228
DTSTAMP:20260423T142135Z
LAST-MODIFIED:20260225T193026Z
SUMMARY:Primitur for minierne
DESCRIPTION:Kom med på en fed spejdertur kun for minier\n\nD. 17-19 april 
 på Himmeriggården\n\nI denne weekend kan du tage mærket Primitur\, vi s
 kal nemlig sove i telt\,  \nlave mad over bål\, udforske området omkring
  Himmeriggården og  \nselvfølgelig have det hyggeligt med alle spejderve
 nnerne. \n\nPraktisk:\n\n * Turen går til “Himmeriggården"\, der ligg
 er tæt på Søften (ca. 20\n   minutters kørsel fra Åbyhøj). \n   \n 
 * Ankomst fredag d. 17. april kl. 17\n   \n * Afhentning søndag d. 19 apr
 il kl. 11.30\n   \n * Vi skal være udenfor hele turen\, og sove i telt \
 n   \n * Prisen for weekenden er 250 kr.  \n\nTransport:\n\nMan skal sel
 v sørge for transport til og fra Himmeriggården. Vi opfordrer  \ntil at 
 I fylder bilerne så godt som muligt. Hvis I ikke har mulighed for  \nselv
  at køre jeres spejder derud\, og ikke kan finde nogen til at give dem et
   \nlift\, så tag kontakt til spejderlederen\, så løser de det.\n\nPakk
 eliste:\n\nMedbring varmt tøj\, soveposer\, liggeunderlag\, dolk\, krus\,
  toiletsager\,  \nviskestykke\, spisegrej (i en pose)\, lommelygte/pandela
 mpe\, sangbog\, uniform  \nog spejdertørklæde. \n\n\nForældrehjælp:\n
 \nFor at lederne kan koncentrere sig om aktiviteterne med spejderne\, har 
 vi  \nbrug for hjælp for forældre til følgende:\n\n * Vi skal bruge nog
 en til at hjælpe i køkkenet 1 eller 2 dage (man kan\n   sove indenfor p
 å Himmeriggården)\n   \n * Lave kødsovs til fredag aften\n   \n * bage 
 en kage til lørdag\n   \n * Vaske viskestykker og klude efter lejren\n   
 \n\n\nKryds af i tilmeldingen\, hvis du vil være en del af hyggen og fæl
 lesskabet.\n\nVi glæder os!\n\nMange spejderhilsner fra bestyrelse og led
 ere i Gallerne \n\n
URL:https://gallerne.dk/begivenhed/primitur-minierne
DTSTART:20260417T150000Z
DTEND:20260419T093000Z
LOCATION:Himmeriggården\, Trigevej 23\, 8382 Hinnerup
END:VEVENT
BEGIN:VEVENT
UID:gruppeweb.dk:7308:event:224
DTSTAMP:20260423T142135Z
LAST-MODIFIED:20260309T090809Z
SUMMARY:Spejdernes Lejr 2026 - leder tilmelding
DESCRIPTION:Tilmelding for grenledere og ledere med ansvarsområde \n\n
URL:https://gallerne.dk/begivenhed/spejdernes-lejr-2026-leder-tilmelding
DTSTART:20260718T080000Z
DTEND:20260726T150000Z
LOCATION:Hedeland Naturpark.
END:VEVENT
BEGIN:VEVENT
UID:gruppeweb.dk:7308:event:225
DTSTAMP:20260423T142135Z
LAST-MODIFIED:20260214T165239Z
SUMMARY:Spejdernes Lejr 2026 - frivillig med lejreplads hos gallerne
DESCRIPTION: OBS på du også skal tilmelde dig via frivillig tilmeldingen
  \n\n\n
URL:https://gallerne.dk/begivenhed/spejdernes-lejr-2026-frivillig-med-lejre
 plads-hos-gallerne
DTSTART:20260718T090000Z
DTEND:20260726T090000Z
LOCATION:Gallerne\, Thorsvej 6\, 8230 Åbyhøj
END:VEVENT
BEGIN:VEVENT
UID:gruppeweb.dk:7308:event:220
DTSTAMP:20260423T142135Z
LAST-MODIFIED:20260227T080534Z
SUMMARY:Spejdernes Lejr 2026 - halv lejr (Mikro\, Mini\, Junior og voksen u
 . gren)
DESCRIPTION:\n*I sommeren 2026 samles 30.000 spejdere fra hele Danmark og v
 erden til  \nSpejdernes Lejr.*\n\n* *\n*Hvorfor skal du med på Spejdernes
  Lejr 2026?*\nSpejdernes Lejr er en lidt større oplevelse\, end du er van
 t til fra  \ngruppeture og centerlejre. Lejren foregår hvert fjerde år f
 orskellige  \nsteder i Danmark. Hvis du tager med på Spejdernes Lejr 2026
  får du:\n\n\n\n·      \nEn hel uge fyldt med aktiviteter\, udford
 ringer\nog oplevelser.\n\n\n\n·      \nEt unikt fællesskab med spe
 jdere fra hele landet\n(og resten af verden).\n\n\n\n·      \nOplev
 elsen af en spejderby\, hvor 30.000 af børn\,\nunge og voksne bor\, leger
 \, lærer og arbejder sammen.\n\n\n\n·      \nMinder for livet!\n\n
 \n\n*Praktisk info:  *\n\n\n\n·       \n*Hvornår:* 18-22 juli f
 or Mini og Junior og\n18-26 juli  for Trop og Senior.\n\n\n\n·     
   \n*Hvor:* Hedeland Naturpark ved Roskilde\n\n\n\n·       \n*Pr
 is:* Mikro\, Mini og Junior 1100 kr. Trop\nog Senior 1500 kr\n\n\n\n·  
       *Transport*: Vi transportere os samlet i bus\n \n\n\n\n\n \n\n\
 nS.U. for tilmelding og betaling er d. 6. febuar 2026\n\n\n\nVil du vide m
 ere om lejren så klik\nher: https://spejderneslejr.dk\n\n\n\n\n \n\nPri
 sen inkluderer kost\, logi\, transport\, og de fedeste spejderaktiviteter 
  \nhele ugen. Der er mulighed for økonomisk støtte til deltagelse hvis 
 man er  \npå fripasordningen.\nKontakt tilmeldings ansvarlig Sofie på so
 fie@bruuna.dk [1]\n\n\n\n[1] mailto:sofie@bruuna.dk\n
URL:https://gallerne.dk/begivenhed/spejdernes-lejr-2026-halv-lejr-mikro-min
 i-junior-og-voksen-u-gren
DTSTART:20260718T160900Z
DTEND:20260722T120000Z
LOCATION:Hedeland Naturpark.
END:VEVENT
BEGIN:VEVENT
UID:gruppeweb.dk:7308:event:221
DTSTAMP:20260423T142135Z
LAST-MODIFIED:20260302T094524Z
SUMMARY:Spejdernes Lejr 2026 - hel lejr (Trop\, Senior\, voksen/leder uden 
 ansvarsområde)
DESCRIPTION:*I sommeren 2026 samles 30.000 spejdere fra hele Danmark og ver
 den til  \nSpejdernes Lejr. Det er Nordens største spejderlejr !*\n\n*\n*
 \n*Hvorfor skal du med på Spejdernes Lejr 2026?*\nSpejdernes Lejr er en l
 idt større oplevelse\, end du er vant til fra  \ngruppeture\nog centerlej
 re. Lejren foregår hvert fjerde år forskellige steder i  \nDanmark.\nHvi
 s du tager med på Spejdernes Lejr 2026 får du:\n\n\n\n·      \nEn
  hel uge fyldt med aktiviteter\, udfordringer\nog oplevelser.\n\n\n\n· 
      \nEt unikt fællesskab med spejdere fra hele landet\n(og resten 
 af verden).\n\n\n\n·      \nOplevelsen af en spejderby\, hvor 30.00
 0 af børn\,\nunge og voksne bor\, leger\, lærer og arbejder sammen.\n\n\
 n\n·      \nMinder for livet!\n\n\n\n*Praktisk info:  *\n\n\n\n·
        \n*Hvornår:* 18-22 juli for Mini og Junior og\n18-26 juli 
  for Trop og Senior.\n\n\n\n·       \n*Hvor:* Hedeland Naturpark 
 ved Roskilde\n\n\n\n·       \n*Pris:* Mikro\, Mini og Junior 1100 
 kr. Trop\nog Senior 1500 kr\n\n\n\n·        *Transport*: Vi transport
 ere os samlet i bus\n \n\n\n\n\n \n\n\nS.U. for tilmelding og betaling e
 r d. 6. febuar 2026\n\n\n\nVil du vide mere om lejren så klik\nher: http
 s://spejderneslejr.dk\n\n\n\n\n \n\nPrisen inkluderer kost\, logi\, trans
 port\, og de fedeste spejderaktiviteter  \nhele ugen. Der er mulighed for
  økonomisk støtte til deltagelse hvis man er  \npå fripasordningen. Kon
 takt tilmeldings ansvarlig Sofie på sofie@bruuna.dk  \n[1]\n\n\n\n[1] mai
 lto:sofie@bruuna.dk\n
URL:https://gallerne.dk/begivenhed/spejdernes-lejr-2026-hel-lejr-trop-senio
 r-voksenleder-uden-ansvarsomraade
DTSTART:20260718T160900Z
DTEND:20260726T160000Z
LOCATION:Gallerne\, Thorsvej 6\, 8230 Åbyhøj
END:VEVENT
END:VCALENDAR
